BEGIN:VCALENDAR
VERSION:2.0
PRODID:-//Nebraska Referee Development Program - ECPv6.15.20//NONSGML v1.0//EN
CALSCALE:GREGORIAN
METHOD:PUBLISH
X-WR-CALNAME:Nebraska Referee Development Program
X-ORIGINAL-URL:https://nrdp.soccer
X-WR-CALDESC:Events for Nebraska Referee Development Program
REFRESH-INTERVAL;VALUE=DURATION:PT1H
X-Robots-Tag:noindex
X-PUBLISHED-TTL:PT1H
BEGIN:VTIMEZONE
TZID:America/Chicago
BEGIN:DAYLIGHT
TZOFFSETFROM:-0600
TZOFFSETTO:-0500
TZNAME:CDT
DTSTART:20220313T080000
END:DAYLIGHT
BEGIN:STANDARD
TZOFFSETFROM:-0500
TZOFFSETTO:-0600
TZNAME:CST
DTSTART:20221106T070000
END:STANDARD
BEGIN:DAYLIGHT
TZOFFSETFROM:-0600
TZOFFSETTO:-0500
TZNAME:CDT
DTSTART:20230312T080000
END:DAYLIGHT
BEGIN:STANDARD
TZOFFSETFROM:-0500
TZOFFSETTO:-0600
TZNAME:CST
DTSTART:20231105T070000
END:STANDARD
BEGIN:DAYLIGHT
TZOFFSETFROM:-0600
TZOFFSETTO:-0500
TZNAME:CDT
DTSTART:20240310T080000
END:DAYLIGHT
BEGIN:STANDARD
TZOFFSETFROM:-0500
TZOFFSETTO:-0600
TZNAME:CST
DTSTART:20241103T070000
END:STANDARD
BEGIN:DAYLIGHT
TZOFFSETFROM:-0600
TZOFFSETTO:-0500
TZNAME:CDT
DTSTART:20250309T080000
END:DAYLIGHT
BEGIN:STANDARD
TZOFFSETFROM:-0500
TZOFFSETTO:-0600
TZNAME:CST
DTSTART:20251102T070000
END:STANDARD
END:VTIMEZONE
BEGIN:VEVENT
DTSTART;TZID=America/Chicago:20240317T180000
DTEND;TZID=America/Chicago:20240317T200000
DTSTAMP:20260425T082930
CREATED:20230307T161922Z
LAST-MODIFIED:20240123T213828Z
UID:10000050-1710698400-1710705600@nrdp.soccer
SUMMARY:NRDP Board Meeting - Virtual Only
DESCRIPTION:If you would like to attend this meeting\, you can certainly do so. Please contact Mark McNamara\, State Director of Communication\, at SDC@nrdp.soccer for more information.
URL:https://nrdp.soccer/event/nrdp-board-meeting-3/
CATEGORIES:Board Meeting
ORGANIZER;CN="Jim McVay":MAILTO:jim.mcvay@nrdp.soccer
END:VEVENT
BEGIN:VEVENT
DTSTART;TZID=America/Chicago:20230416T180000
DTEND;TZID=America/Chicago:20230416T200000
DTSTAMP:20260425T082930
CREATED:20230307T161855Z
LAST-MODIFIED:20230323T185004Z
UID:10000049-1681668000-1681675200@nrdp.soccer
SUMMARY:NRDP Board Meeting - Online
DESCRIPTION:
URL:https://nrdp.soccer/event/nrdp-board-meeting-2/
CATEGORIES:Board Meeting
ORGANIZER;CN="Jim McVay":MAILTO:jim.mcvay@nrdp.soccer
END:VEVENT
BEGIN:VEVENT
DTSTART;TZID=America/Chicago:20230312T060000
DTEND;TZID=America/Chicago:20230312T200000
DTSTAMP:20260425T082930
CREATED:20230307T161811Z
LAST-MODIFIED:20230307T161811Z
UID:10000048-1678600800-1678651200@nrdp.soccer
SUMMARY:NRDP Board Meeting
DESCRIPTION:
URL:https://nrdp.soccer/event/nrdp-board-meeting/
CATEGORIES:Board Meeting
ORGANIZER;CN="Jim McVay":MAILTO:jim.mcvay@nrdp.soccer
END:VEVENT
END:VCALENDAR