BEGIN:VCALENDAR
VERSION:2.0
PRODID:-//Nebraska Referee Development Program - ECPv6.15.20//NONSGML v1.0//EN
CALSCALE:GREGORIAN
METHOD:PUBLISH
X-WR-CALNAME:Nebraska Referee Development Program
X-ORIGINAL-URL:https://nrdp.soccer
X-WR-CALDESC:Events for Nebraska Referee Development Program
REFRESH-INTERVAL;VALUE=DURATION:PT1H
X-Robots-Tag:noindex
X-PUBLISHED-TTL:PT1H
BEGIN:VTIMEZONE
TZID:America/Chicago
BEGIN:DAYLIGHT
TZOFFSETFROM:-0600
TZOFFSETTO:-0500
TZNAME:CDT
DTSTART:20200308T080000
END:DAYLIGHT
BEGIN:STANDARD
TZOFFSETFROM:-0500
TZOFFSETTO:-0600
TZNAME:CST
DTSTART:20201101T070000
END:STANDARD
BEGIN:DAYLIGHT
TZOFFSETFROM:-0600
TZOFFSETTO:-0500
TZNAME:CDT
DTSTART:20210314T080000
END:DAYLIGHT
BEGIN:STANDARD
TZOFFSETFROM:-0500
TZOFFSETTO:-0600
TZNAME:CST
DTSTART:20211107T070000
END:STANDARD
BEGIN:DAYLIGHT
TZOFFSETFROM:-0600
TZOFFSETTO:-0500
TZNAME:CDT
DTSTART:20220313T080000
END:DAYLIGHT
BEGIN:STANDARD
TZOFFSETFROM:-0500
TZOFFSETTO:-0600
TZNAME:CST
DTSTART:20221106T070000
END:STANDARD
BEGIN:DAYLIGHT
TZOFFSETFROM:-0600
TZOFFSETTO:-0500
TZNAME:CDT
DTSTART:20230312T080000
END:DAYLIGHT
BEGIN:STANDARD
TZOFFSETFROM:-0500
TZOFFSETTO:-0600
TZNAME:CST
DTSTART:20231105T070000
END:STANDARD
BEGIN:DAYLIGHT
TZOFFSETFROM:-0600
TZOFFSETTO:-0500
TZNAME:CDT
DTSTART:20240310T080000
END:DAYLIGHT
BEGIN:STANDARD
TZOFFSETFROM:-0500
TZOFFSETTO:-0600
TZNAME:CST
DTSTART:20241103T070000
END:STANDARD
END:VTIMEZONE
BEGIN:VEVENT
DTSTART;TZID=America/Chicago:20230309T180000
DTEND;TZID=America/Chicago:20230309T200000
DTSTAMP:20260424T110126
CREATED:20230307T160515Z
LAST-MODIFIED:20230307T161028Z
UID:10000046-1678384800-1678392000@nrdp.soccer
SUMMARY:Field Training - Lincoln
DESCRIPTION:Instructions for registering for the New Referee Course can be found HERE. \nOnce you complete ALL of the online assignments\, you can sign up to attend this Field Training Session by registering HERE. \nPre-registration and completion of online material is required prior to being able to enroll for a Field Training Clinic. If you have not completed the online courses\, you will not be able to attend the field training. \nPlease bring with you a pen and paper for notes\, water\, and be ready to do a little light running. \nIf you have any questions\, contact Dave Glatte\, SYRA\, at dave.glatte@nrdp.soccer.
URL:https://nrdp.soccer/event/field-training-lincoln-7/
LOCATION:Easterday Recreation Center – Lincoln\, 6130 Adams Street\, Lincoln\, NE\, 68507\, United States
CATEGORIES:Field Training Session
ORGANIZER;CN="Dave Glatte":MAILTO:dave.glatte@nrdp.soccer
END:VEVENT
BEGIN:VEVENT
DTSTART;TZID=America/Chicago:20220413T180000
DTEND;TZID=America/Chicago:20220413T200000
DTSTAMP:20260424T110126
CREATED:20220330T161012Z
LAST-MODIFIED:20220330T161208Z
UID:10000028-1649872800-1649880000@nrdp.soccer
SUMMARY:Field Training - La Vista
DESCRIPTION:Pre-registration and completion of online material is REQUIRED prior to being able to enroll for a Field Training Clinic. \n\nLog in to OMS by clicking here: https://nrdp.omgtsys.com/Memberlogin.aspx\nIf you forgot your password or username\, click on “Forgot Password?” or “Forgot Username?”\nComplete the Online Lessons (you cannot register for field training until these are completed)\nSelect “Pick a Clinic”\nFind a Field Training Session that you can attend and click “Attend Here”\n\nAlso \nPlease bring something to pen and paper for notes. \nPlease come ready to do a little light running.
URL:https://nrdp.soccer/event/field-training-lavista-2/
LOCATION:La Vista Sports Complex – La Vista\, 7346 South 66th Street\, LaVista\, NE\, 68128\, United States
CATEGORIES:Field Training Session
ORGANIZER;CN="Dave Glatte":MAILTO:dave.glatte@nrdp.soccer
END:VEVENT
BEGIN:VEVENT
DTSTART;TZID=America/Chicago:20220407T180000
DTEND;TZID=America/Chicago:20220407T200000
DTSTAMP:20260424T110126
CREATED:20220330T161134Z
LAST-MODIFIED:20220330T161134Z
UID:10000026-1649354400-1649361600@nrdp.soccer
SUMMARY:Field Training - La Vista
DESCRIPTION:Pre-registration and completion of online material is REQUIRED prior to being able to enroll for a Field Training Clinic. \n\nLog in to OMS by clicking here: https://nrdp.omgtsys.com/Memberlogin.aspx\nIf you forgot your password or username\, click on “Forgot Password?” or “Forgot Username?”\nComplete the Online Lessons (you cannot register for field training until these are completed)\nSelect “Pick a Clinic”\nFind a Field Training Session that you can attend and click “Attend Here”\n\nAlso \nPlease bring something to pen and paper for notes. \nPlease come ready to do a little light running.
URL:https://nrdp.soccer/event/field-training-la-vista/
LOCATION:La Vista Sports Complex – La Vista\, 7346 South 66th Street\, LaVista\, NE\, 68128\, United States
CATEGORIES:Field Training Session
ORGANIZER;CN="Dave Glatte":MAILTO:dave.glatte@nrdp.soccer
END:VEVENT
BEGIN:VEVENT
DTSTART;TZID=America/Chicago:20220327T150000
DTEND;TZID=America/Chicago:20220327T170000
DTSTAMP:20260424T110126
CREATED:20220216T153752Z
LAST-MODIFIED:20220216T155018Z
UID:10000035-1648393200-1648400400@nrdp.soccer
SUMMARY:Field Training - Gretna
DESCRIPTION:Pre-registration and completion of online material is REQUIRED prior to being able to enroll for a Field Training Clinic. \n\nLog in to OMS by clicking here: https://nrdp.omgtsys.com/Memberlogin.aspx\nIf you forgot your password or username\, click on “Forgot Password?” or “Forgot Username?”\nComplete the Online Lessons (you cannot register for field training until these are completed)\nSelect “Pick a Clinic”\nFind a Field Training Session that you can attend and click “Attend Here”\n\nAlso \nPlease bring something to pen and paper for notes. \nPlease come ready to do a little light running.
URL:https://nrdp.soccer/event/field-training-gretna-2/
LOCATION:Gretna Sports Complex – Gretna\, 10550 South 222nd Street\, Gretna\, NE\, 68028\, United States
CATEGORIES:Field Training Session
ORGANIZER;CN="Dave Glatte":MAILTO:dave.glatte@nrdp.soccer
END:VEVENT
BEGIN:VEVENT
DTSTART;TZID=America/Chicago:20220314T183000
DTEND;TZID=America/Chicago:20220314T203000
DTSTAMP:20260424T110127
CREATED:20220306T151641Z
LAST-MODIFIED:20220306T151641Z
UID:10000027-1647282600-1647289800@nrdp.soccer
SUMMARY:Field Training - Waterloo
DESCRIPTION:Pre-registration and completion of online material is REQUIRED prior to being able to enroll for a Field Training Clinic. \n\nLog in to OMS by clicking here: https://nrdp.omgtsys.com/Memberlogin.aspx\nIf you forgot your password or username\, click on “Forgot Password?” or “Forgot Username?”\nComplete the Online Lessons (you cannot register for field training until these are completed)\nSelect “Pick a Clinic”\nFind a Field Training Session that you can attend and click “Attend Here”\n\nAlso \nPlease bring something to pen and paper for notes. \nPlease come ready to do a little light running.
URL:https://nrdp.soccer/event/field-training-waterloo-4/
LOCATION:Thrive Space – Waterloo\, 800 North Front Street\, Suite 1\, Waterloo\, NE\, 68069\, United States
CATEGORIES:Field Training Session
ORGANIZER;CN="Dave Glatte":MAILTO:dave.glatte@nrdp.soccer
END:VEVENT
BEGIN:VEVENT
DTSTART;TZID=America/Chicago:20220305T140000
DTEND;TZID=America/Chicago:20220305T153000
DTSTAMP:20260424T110127
CREATED:20220216T154846Z
LAST-MODIFIED:20220216T155057Z
UID:10000034-1646488800-1646494200@nrdp.soccer
SUMMARY:Field Training - Omaha
DESCRIPTION:Pre-registration and completion of online material is REQUIRED prior to being able to enroll for a Field Training Clinic. \n\nLog in to OMS by clicking here: https://nrdp.omgtsys.com/Memberlogin.aspx\nIf you forgot your password or username\, click on “Forgot Password?” or “Forgot Username?”\nComplete the Online Lessons (you cannot register for field training until these are completed)\nSelect “Pick a Clinic”\nFind a Field Training Session that you can attend and click “Attend Here”\n\nAlso \nPlease bring something to pen and paper for notes. \nPlease come ready to do a little light running.
URL:https://nrdp.soccer/event/field-training-omaha-2/
LOCATION:UNO – H&K Wellness Center – Omaha\, 6323 Maverick Plaza\, Omaha\, NE\, 68182\, United States
CATEGORIES:Field Training Session
ORGANIZER;CN="Dave Glatte":MAILTO:dave.glatte@nrdp.soccer
END:VEVENT
BEGIN:VEVENT
DTSTART;TZID=America/Chicago:20220227T180000
DTEND;TZID=America/Chicago:20220227T200000
DTSTAMP:20260424T110127
CREATED:20220216T154217Z
LAST-MODIFIED:20220226T210304Z
UID:10000036-1645984800-1645992000@nrdp.soccer
SUMMARY:Field Training - Lincoln - NEW LOCATION
DESCRIPTION:Pre-registration and completion of online material is REQUIRED prior to being able to enroll for a Field Training Clinic. \n\nLog in to OMS by clicking here: https://nrdp.omgtsys.com/Memberlogin.aspx\nIf you forgot your password or username\, click on “Forgot Password?” or “Forgot Username?”\nComplete the Online Lessons (you cannot register for field training until these are completed)\nSelect “Pick a Clinic”\nFind a Field Training Session that you can attend and click “Attend Here”\n\nAlso \nPlease bring something to pen and paper for notes. \nPlease come ready to do a little light running. \nEnter via gym on southeast side of building.
URL:https://nrdp.soccer/event/field-training-lincoln-6/
LOCATION:Lincoln Sports Foundation – Lincoln\, 7600 North 70th Street\, Lincoln\, NE\, 68517
CATEGORIES:Field Training Session
ORGANIZER;CN="Dave Glatte":MAILTO:dave.glatte@nrdp.soccer
END:VEVENT
BEGIN:VEVENT
DTSTART;TZID=America/Chicago:20220221T183000
DTEND;TZID=America/Chicago:20220221T203000
DTSTAMP:20260424T110127
CREATED:20220216T155416Z
LAST-MODIFIED:20220216T155416Z
UID:10000032-1645468200-1645475400@nrdp.soccer
SUMMARY:Field Training - Waterloo
DESCRIPTION:Pre-registration and completion of online material is REQUIRED prior to being able to enroll for a Field Training Clinic. \n\nLog in to OMS by clicking here: https://nrdp.omgtsys.com/Memberlogin.aspx\nIf you forgot your password or username\, click on “Forgot Password?” or “Forgot Username?”\nComplete the Online Lessons (you cannot register for field training until these are completed)\nSelect “Pick a Clinic”\nFind a Field Training Session that you can attend and click “Attend Here”\n\nAlso \nPlease bring something to pen and paper for notes. \nPlease come ready to do a little light running.
URL:https://nrdp.soccer/event/field-training-waterloo-3/
LOCATION:Thrive Space – Waterloo\, 800 North Front Street\, Suite 1\, Waterloo\, NE\, 68069\, United States
CATEGORIES:Field Training Session
ORGANIZER;CN="Dave Glatte":MAILTO:dave.glatte@nrdp.soccer
END:VEVENT
BEGIN:VEVENT
DTSTART;TZID=America/Chicago:20220219T130000
DTEND;TZID=America/Chicago:20220219T150000
DTSTAMP:20260424T110127
CREATED:20220216T155848Z
LAST-MODIFIED:20220216T155848Z
UID:10000033-1645275600-1645282800@nrdp.soccer
SUMMARY:Field Training - Kearney
DESCRIPTION:Pre-registration and completion of online material is REQUIRED prior to being able to enroll for a Field Training Clinic. \n\nLog in to OMS by clicking here: https://nrdp.omgtsys.com/Memberlogin.aspx\nIf you forgot your password or username\, click on “Forgot Password?” or “Forgot Username?”\nComplete the Online Lessons (you cannot register for field training until these are completed)\nSelect “Pick a Clinic”\nFind a Field Training Session that you can attend and click “Attend Here”\n\nAlso \nPlease bring something to pen and paper for notes. \nPlease come ready to do a little light running.
URL:https://nrdp.soccer/event/field-training-kearney-3/
LOCATION:Harmon Activity Center – Kearney\, 3100 5th Avenue\, KEARNEY\,\, NE\, 68845\, United States
CATEGORIES:Field Training Session
ORGANIZER;CN="Saadat Hosseini":MAILTO:saadathosseini@gmail.com
END:VEVENT
BEGIN:VEVENT
DTSTART;TZID=America/Chicago:20220105T193000
DTEND;TZID=America/Chicago:20220105T210000
DTSTAMP:20260424T110127
CREATED:20211229T220447Z
LAST-MODIFIED:20211229T221223Z
UID:10000003-1641411000-1641416400@nrdp.soccer
SUMMARY:Field Training - Elkhorn
DESCRIPTION:Pre-registration and completion of online material is REQUIRED prior to being able to enroll for a Field Training Clinic. \n\nLog in to OMS by clicking here: https://nrdp.omgtsys.com/Memberlogin.aspx\nIf you forgot your password or username\, click on “Forgot Password?” or “Forgot Username?”\nComplete the Online Lessons (you cannot register for field training until these are completed)\nSelect “Pick a Clinic”\nFind a Field Training Session that you can attend and click “Attend Here”\n\nAlso \nPlease bring something to pen and paper for notes. \nPlease come ready to do a little light running.
URL:https://nrdp.soccer/event/field-training-elkhorn/
LOCATION:Elkhorn Athletic Association – Elkhorn\, 1402 North 203rd Street\, Elkhorn\, NE\, 68022\, United States
CATEGORIES:Field Training Session
ORGANIZER;CN="Dave Glatte":MAILTO:dave.glatte@nrdp.soccer
END:VEVENT
BEGIN:VEVENT
DTSTART;TZID=America/Chicago:20211220T173000
DTEND;TZID=America/Chicago:20211220T190000
DTSTAMP:20260424T110127
CREATED:20211123T233152Z
LAST-MODIFIED:20211123T235012Z
UID:10000004-1640021400-1640026800@nrdp.soccer
SUMMARY:Field Training - Waterloo
DESCRIPTION:Pre-registration and completion of online material is REQUIRED prior to being able to enroll for a Field Training Clinic. \n\nLog in to OMS by clicking here: https://nrdp.omgtsys.com/Memberlogin.aspx\nIf you forgot your password or username\, click on “Forgot Password?” or “Forgot Username?”\nComplete the Online Lessons (you cannot register for field training until these are completed)\nSelect “Pick a Clinic”\nFind a Field Training Session that you can attend and click “Attend Here”\n\nAlso \nPlease bring something to pen and paper for notes. \nPlease come ready to do a little light running.
URL:https://nrdp.soccer/event/field-training-waterloo-2/
LOCATION:Thrive Space – Waterloo\, 800 North Front Street\, Suite 1\, Waterloo\, NE\, 68069\, United States
CATEGORIES:Field Training Session
ORGANIZER;CN="Dave Glatte":MAILTO:dave.glatte@nrdp.soccer
END:VEVENT
BEGIN:VEVENT
DTSTART;TZID=America/Chicago:20211205T160000
DTEND;TZID=America/Chicago:20211205T174500
DTSTAMP:20260424T110127
CREATED:20211123T234643Z
LAST-MODIFIED:20211123T234643Z
UID:10000002-1638720000-1638726300@nrdp.soccer
SUMMARY:Field Training - Gretna
DESCRIPTION:Pre-registration and completion of online material is REQUIRED prior to being able to enroll for a Field Training Clinic. \n\nLog in to OMS by clicking here: https://nrdp.omgtsys.com/Memberlogin.aspx\nIf you forgot your password or username\, click on “Forgot Password?” or “Forgot Username?”\nComplete the Online Lessons (you cannot register for field training until these are completed)\nSelect “Pick a Clinic”\nFind a Field Training Session that you can attend and click “Attend Here”\n\nAlso \nPlease bring something to pen and paper for notes. \nPlease come ready to do a little light running.
URL:https://nrdp.soccer/event/field-training-gretna/
LOCATION:Gretna Sports Complex – Gretna\, 10550 South 222nd Street\, Gretna\, NE\, 68028\, United States
CATEGORIES:Field Training Session
ORGANIZER;CN="Dave Glatte":MAILTO:dave.glatte@nrdp.soccer
END:VEVENT
BEGIN:VEVENT
DTSTART;TZID=America/Chicago:20211011T173000
DTEND;TZID=America/Chicago:20211011T190000
DTSTAMP:20260424T110127
CREATED:20210928T190924Z
LAST-MODIFIED:20210928T190924Z
UID:10000015-1633973400-1633978800@nrdp.soccer
SUMMARY:Field Training - Lincoln
DESCRIPTION:Pre-registration and completion of online material is REQUIRED prior to being able to enroll for a Field Training Clinic. \n\nLog in to OMS by clicking here: https://nrdp.omgtsys.com/Memberlogin.aspx\nIf you forgot your password or username\, click on “Forgot Password?” or “Forgot Username?”\nComplete the Online Lessons (you cannot register for field training until these are completed)\nSelect “Pick a Clinic”\nFind a Field Training Session that you can attend and click “Attend Here”\n\nAlso \nPlease bring something to pen and paper for notes. \nPlease come ready to do a little light running.
URL:https://nrdp.soccer/event/field-training-lincoln-5/
LOCATION:Lincoln Sports Foundation – Lincoln\, 7600 North 70th Street\, Lincoln\, NE\, 68517
CATEGORIES:Field Training Session
ORGANIZER;CN="Dave Glatte":MAILTO:dave.glatte@nrdp.soccer
END:VEVENT
BEGIN:VEVENT
DTSTART;TZID=America/Chicago:20211010T160000
DTEND;TZID=America/Chicago:20211010T180000
DTSTAMP:20260424T110127
CREATED:20210928T191043Z
LAST-MODIFIED:20210928T191347Z
UID:10000016-1633881600-1633888800@nrdp.soccer
SUMMARY:Field Training - Omaha
DESCRIPTION:Pre-registration and completion of online material is REQUIRED prior to being able to enroll for a Field Training Clinic. \n\nLog in to OMS by clicking here: https://nrdp.omgtsys.com/Memberlogin.aspx\nIf you forgot your password or username\, click on “Forgot Password?” or “Forgot Username?”\nComplete the Online Lessons (you cannot register for field training until these are completed)\nSelect “Pick a Clinic”\nFind a Field Training Session that you can attend and click “Attend Here”\n\nAlso \nPlease bring something to pen and paper for notes. \nPlease come ready to do a little light running.
URL:https://nrdp.soccer/event/field-training-omaha/
LOCATION:Tranquility Park – Omaha\, 12222 W. Maple Road\, Omaha\, NE\, 68164
CATEGORIES:Field Training Session
ORGANIZER;CN="Dave Glatte":MAILTO:dave.glatte@nrdp.soccer
END:VEVENT
BEGIN:VEVENT
DTSTART;TZID=America/Chicago:20210925T180000
DTEND;TZID=America/Chicago:20210925T193000
DTSTAMP:20260424T110127
CREATED:20210730T211955Z
LAST-MODIFIED:20210731T192239Z
UID:10000021-1632592800-1632598200@nrdp.soccer
SUMMARY:Field Training - Kearney
DESCRIPTION:Pre-registration and completion of online material is REQUIRED prior to being able to enroll for a Field Training Clinic. \n\nLog in to OMS by clicking here: https://nrdp.omgtsys.com/Memberlogin.aspx\nIf you forgot your password or username\, click on “Forgot Password?” or “Forgot Username?”\nComplete the Online Lessons (you cannot register for field training until these are completed)\nSelect “Pick a Clinic”\nFind a Field Training Session that you can attend and click “Attend Here”\n\nAlso \nPlease bring something to pen and paper for notes. \nPlease come ready to do a little light running.
URL:https://nrdp.soccer/event/field-training-kearney-2/
LOCATION:West Lincolnway Park – Kearney\, 2231-2281 30th Avenue\, Kearney\, NE\, 68845
CATEGORIES:Field Training Session
ORGANIZER;CN="Saadat Hosseini":MAILTO:saadathosseini@gmail.com
END:VEVENT
BEGIN:VEVENT
DTSTART;TZID=America/Chicago:20210920T180000
DTEND;TZID=America/Chicago:20210920T193000
DTSTAMP:20260424T110127
CREATED:20210731T124636Z
LAST-MODIFIED:20210731T124636Z
UID:10000014-1632160800-1632166200@nrdp.soccer
SUMMARY:Field Training - Lincoln
DESCRIPTION:Pre-registration and completion of online material is REQUIRED prior to being able to enroll for a Field Training Clinic. \n\nLog in to OMS by clicking here: https://nrdp.omgtsys.com/Memberlogin.aspx\nIf you forgot your password or username\, click on “Forgot Password?” or “Forgot Username?”\nComplete the Online Lessons (you cannot register for field training until these are completed)\nSelect “Pick a Clinic”\nFind a Field Training Session that you can attend and click “Attend Here”\n\nAlso \nPlease bring something to pen and paper for notes. \nPlease come ready to do a little light running.
URL:https://nrdp.soccer/event/field-training-lincoln-4/
LOCATION:Wright Park – Lincoln\, 4441 South Folsom Street\, Field C\, Lincoln\, NE\, 68523
CATEGORIES:Field Training Session
ORGANIZER;CN="Dave Glatte":MAILTO:dave.glatte@nrdp.soccer
END:VEVENT
BEGIN:VEVENT
DTSTART;TZID=America/Chicago:20210920T180000
DTEND;TZID=America/Chicago:20210920T193000
DTSTAMP:20260424T110127
CREATED:20210730T211439Z
LAST-MODIFIED:20210731T123449Z
UID:10000019-1632160800-1632166200@nrdp.soccer
SUMMARY:Field Training - Lincoln
DESCRIPTION:Pre-registration and completion of online material is REQUIRED prior to being able to enroll for a Field Training Clinic. \n\nLog in to OMS by clicking here: https://nrdp.omgtsys.com/Memberlogin.aspx\nIf you forgot your password or username\, click on “Forgot Password?” or “Forgot Username?”\nComplete the Online Lessons (you cannot register for field training until these are completed)\nSelect “Pick a Clinic”\nFind a Field Training Session that you can attend and click “Attend Here”\n\nAlso \nPlease bring something to pen and paper for notes. \nPlease come ready to do a little light running.
URL:https://nrdp.soccer/event/field-training-lincoln-3/
LOCATION:Wright Park – Lincoln\, 4441 South Folsom Street\, Field C\, Lincoln\, NE\, 68523
CATEGORIES:Field Training Session
ORGANIZER;CN="Dave Glatte":MAILTO:dave.glatte@nrdp.soccer
END:VEVENT
BEGIN:VEVENT
DTSTART;TZID=America/Chicago:20210913T180000
DTEND;TZID=America/Chicago:20210913T193000
DTSTAMP:20260424T110127
CREATED:20210731T124532Z
LAST-MODIFIED:20210731T124532Z
UID:10000018-1631556000-1631561400@nrdp.soccer
SUMMARY:Field Training - Fremont
DESCRIPTION:Pre-registration and completion of online material is REQUIRED prior to being able to enroll for a Field Training Clinic. \n\nLog in to OMS by clicking here: https://nrdp.omgtsys.com/Memberlogin.aspx\nIf you forgot your password or username\, click on “Forgot Password?” or “Forgot Username?”\nComplete the Online Lessons (you cannot register for field training until these are completed)\nSelect “Pick a Clinic”\nFind a Field Training Session that you can attend and click “Attend Here”\n\nAlso \nPlease bring something to pen and paper for notes. \nPlease come ready to do a little light running.
URL:https://nrdp.soccer/event/field-training-fremont/
LOCATION:Christensen Field Soccer Complex – Fremont\, 1914 Christensen Field R\, Fremont\, NE\, 68025\, United States
CATEGORIES:Field Training Session
ORGANIZER;CN="Dave Glatte":MAILTO:dave.glatte@nrdp.soccer
END:VEVENT
BEGIN:VEVENT
DTSTART;TZID=America/Chicago:20210829T160000
DTEND;TZID=America/Chicago:20210829T173000
DTSTAMP:20260424T110127
CREATED:20210731T124422Z
LAST-MODIFIED:20210731T124422Z
UID:10000017-1630252800-1630258200@nrdp.soccer
SUMMARY:Field Training - Columbus
DESCRIPTION:Pre-registration and completion of online material is REQUIRED prior to being able to enroll for a Field Training Clinic. \n\nLog in to OMS by clicking here: https://nrdp.omgtsys.com/Memberlogin.aspx\nIf you forgot your password or username\, click on “Forgot Password?” or “Forgot Username?”\nComplete the Online Lessons (you cannot register for field training until these are completed)\nSelect “Pick a Clinic”\nFind a Field Training Session that you can attend and click “Attend Here”\n\nAlso \nPlease bring something to pen and paper for notes. \nPlease come ready to do a little light running.
URL:https://nrdp.soccer/event/field-training-columbus/
LOCATION:Wilderness Park Soccer Complex – Columbus\, 4100 18th Avenue\, Columbus\, NE\, 68601
CATEGORIES:Field Training Session
ORGANIZER;CN="Dave Glatte":MAILTO:dave.glatte@nrdp.soccer
END:VEVENT
BEGIN:VEVENT
DTSTART;TZID=America/Chicago:20210825T180000
DTEND;TZID=America/Chicago:20210825T193000
DTSTAMP:20260424T110127
CREATED:20210730T211849Z
LAST-MODIFIED:20210731T123226Z
UID:10000020-1629914400-1629919800@nrdp.soccer
SUMMARY:Field Training - Kearney
DESCRIPTION:Pre-registration and completion of online material is REQUIRED prior to being able to enroll for a Field Training Clinic. \n\nLog in to OMS by clicking here: https://nrdp.omgtsys.com/Memberlogin.aspx\nIf you forgot your password or username\, click on “Forgot Password?” or “Forgot Username?”\nComplete the Online Lessons (you cannot register for field training until these are completed)\nSelect “Pick a Clinic”\nFind a Field Training Session that you can attend and click “Attend Here”\n\nAlso \nPlease bring something to pen and paper for notes. \nPlease come ready to do a little light running.
URL:https://nrdp.soccer/event/field-training-kearney/
LOCATION:West Lincolnway Park – Kearney\, 2231-2281 30th Avenue\, Kearney\, NE\, 68845
CATEGORIES:Field Training Session
ORGANIZER;CN="Saadat Hosseini":MAILTO:saadathosseini@gmail.com
END:VEVENT
BEGIN:VEVENT
DTSTART;TZID=America/Chicago:20210824T190000
DTEND;TZID=America/Chicago:20210824T203000
DTSTAMP:20260424T110127
CREATED:20210730T211731Z
LAST-MODIFIED:20210731T122557Z
UID:10000024-1629831600-1629837000@nrdp.soccer
SUMMARY:Field Training - LaVista
DESCRIPTION:Pre-registration and completion of online material is REQUIRED prior to being able to enroll for a Field Training Clinic. \n\nLog in to OMS by clicking here: https://nrdp.omgtsys.com/Memberlogin.aspx\nIf you forgot your password or username\, click on “Forgot Password?” or “Forgot Username?”\nComplete the Online Lessons (you cannot register for field training until these are completed)\nSelect “Pick a Clinic”\nFind a Field Training Session that you can attend and click “Attend Here”\n\nAlso \nPlease bring something to pen and paper for notes. \nPlease come ready to do a little light running.
URL:https://nrdp.soccer/event/field-training-lavista/
LOCATION:La Vista Sports Complex – La Vista\, 7346 South 66th Street\, LaVista\, NE\, 68128\, United States
CATEGORIES:Field Training Session
ORGANIZER;CN="Dave Glatte":MAILTO:dave.glatte@nrdp.soccer
END:VEVENT
BEGIN:VEVENT
DTSTART;TZID=America/Chicago:20210823T190000
DTEND;TZID=America/Chicago:20210823T203000
DTSTAMP:20260424T110127
CREATED:20210730T211259Z
LAST-MODIFIED:20210731T123004Z
UID:10000023-1629745200-1629750600@nrdp.soccer
SUMMARY:Field Training - Lincoln
DESCRIPTION:Pre-registration and completion of online material is REQUIRED prior to being able to enroll for a Field Training Clinic. \n\nLog in to OMS by clicking here: https://nrdp.omgtsys.com/Memberlogin.aspx\nIf you forgot your password or username\, click on “Forgot Password?” or “Forgot Username?”\nComplete the Online Lessons (you cannot register for field training until these are completed)\nSelect “Pick a Clinic”\nFind a Field Training Session that you can attend and click “Attend Here”\n\nAlso \nPlease bring something to pen and paper for notes. \nPlease come ready to do a little light running.
URL:https://nrdp.soccer/event/field-training-lincoln-2/
LOCATION:Wright Park – Lincoln\, 4441 South Folsom Street\, Field C\, Lincoln\, NE\, 68523
CATEGORIES:Field Training Session
ORGANIZER;CN="Dave Glatte":MAILTO:dave.glatte@nrdp.soccer
END:VEVENT
BEGIN:VEVENT
DTSTART;TZID=America/Chicago:20210811T190000
DTEND;TZID=America/Chicago:20210811T203000
DTSTAMP:20260424T110127
CREATED:20210730T140807Z
LAST-MODIFIED:20210730T205738Z
UID:10000025-1628708400-1628713800@nrdp.soccer
SUMMARY:Field Training - Omaha
DESCRIPTION:Pre-registration and completion of online material is REQUIRED prior to being able to enroll for a Field Training Clinic. \n\nLog in to OMS by clicking here: https://nrdp.omgtsys.com/Memberlogin.aspx\nIf you forgot your password or username\, click on “Forgot Password?” or “Forgot Username?”\nComplete the Online Lessons (you cannot register for field training until these are completed)\nSelect “Pick a Clinic”\nFind a Field Training Session that you can attend and click “Attend Here”\n\nAlso \nPlease bring something to pen and paper for notes. \nPlease come ready to do a little light running.
URL:https://nrdp.soccer/event/field-training/
LOCATION:Tranquility Park – Omaha\, 12222 W. Maple Road\, Omaha\, NE\, 68164
CATEGORIES:Field Training Session
ORGANIZER;CN="Dave Glatte":MAILTO:dave.glatte@nrdp.soccer
END:VEVENT
BEGIN:VEVENT
DTSTART;TZID=America/Chicago:20210810T190000
DTEND;TZID=America/Chicago:20210810T203000
DTSTAMP:20260424T110127
CREATED:20210730T211154Z
LAST-MODIFIED:20210730T211154Z
UID:10000022-1628622000-1628627400@nrdp.soccer
SUMMARY:Field Training - Lincoln
DESCRIPTION:Pre-registration and completion of online material is REQUIRED prior to being able to enroll for a Field Training Clinic. \n\nLog in to OMS by clicking here: https://nrdp.omgtsys.com/Memberlogin.aspx\nIf you forgot your password or username\, click on “Forgot Password?” or “Forgot Username?”\nComplete the Online Lessons (you cannot register for field training until these are completed)\nSelect “Pick a Clinic”\nFind a Field Training Session that you can attend and click “Attend Here”\n\nAlso \nPlease bring something to pen and paper for notes. \nPlease come ready to do a little light running.
URL:https://nrdp.soccer/event/field-training-lincoln/
LOCATION:Wright Park – Lincoln\, 4441 South Folsom Street\, Field C\, Lincoln\, NE\, 68523
CATEGORIES:Field Training Session
ORGANIZER;CN="Dave Glatte":MAILTO:dave.glatte@nrdp.soccer
END:VEVENT
END:VCALENDAR