BEGIN:VCALENDAR
VERSION:2.0
PRODID:-//Nebraska Referee Development Program - ECPv6.15.20//NONSGML v1.0//EN
CALSCALE:GREGORIAN
METHOD:PUBLISH
X-WR-CALNAME:Nebraska Referee Development Program
X-ORIGINAL-URL:https://nrdp.soccer
X-WR-CALDESC:Events for Nebraska Referee Development Program
REFRESH-INTERVAL;VALUE=DURATION:PT1H
X-Robots-Tag:noindex
X-PUBLISHED-TTL:PT1H
BEGIN:VTIMEZONE
TZID:America/Chicago
BEGIN:DAYLIGHT
TZOFFSETFROM:-0600
TZOFFSETTO:-0500
TZNAME:CDT
DTSTART:20250309T080000
END:DAYLIGHT
BEGIN:STANDARD
TZOFFSETFROM:-0500
TZOFFSETTO:-0600
TZNAME:CST
DTSTART:20251102T070000
END:STANDARD
BEGIN:DAYLIGHT
TZOFFSETFROM:-0600
TZOFFSETTO:-0500
TZNAME:CDT
DTSTART:20260308T080000
END:DAYLIGHT
BEGIN:STANDARD
TZOFFSETFROM:-0500
TZOFFSETTO:-0600
TZNAME:CST
DTSTART:20261101T070000
END:STANDARD
BEGIN:DAYLIGHT
TZOFFSETFROM:-0600
TZOFFSETTO:-0500
TZNAME:CDT
DTSTART:20270314T080000
END:DAYLIGHT
BEGIN:STANDARD
TZOFFSETFROM:-0500
TZOFFSETTO:-0600
TZNAME:CST
DTSTART:20271107T070000
END:STANDARD
END:VTIMEZONE
BEGIN:VEVENT
DTSTART;TZID=America/Chicago:20260426T130000
DTEND;TZID=America/Chicago:20260426T150000
DTSTAMP:20260423T093741
CREATED:20260411T032730Z
LAST-MODIFIED:20260417T014222Z
UID:10000096-1777208400-1777215600@nrdp.soccer
SUMMARY:Field Training - CHI Health Multisport Complex (La Vista)
DESCRIPTION:CHI Multisport Complex Field #6
URL:https://nrdp.soccer/event/field-training-chi-health-multisport-complex-la-vista/
LOCATION:CHI Health Multisport Complex\, 8101 Eastport Pkwy\, La Vista\, NE\, 68128\, United States
END:VEVENT
BEGIN:VEVENT
DTSTART;TZID=America/Chicago:20260429T183000
DTEND;TZID=America/Chicago:20260429T203000
DTSTAMP:20260423T093741
CREATED:20260417T014133Z
LAST-MODIFIED:20260417T014133Z
UID:10000098-1777487400-1777494600@nrdp.soccer
SUMMARY:Field Training - CHI Multisport Complex LaVista
DESCRIPTION:CHI Multisport Complex Field #9
URL:https://nrdp.soccer/event/field-training-chi-multisport-complex-lavista/
LOCATION:CHI Health Multisport Complex\, 8101 Eastport Pkwy\, La Vista\, NE\, 68128\, United States
END:VEVENT
END:VCALENDAR