BEGIN:VCALENDAR
VERSION:2.0
PRODID:-//Nebraska Referee Development Program - ECPv6.15.20//NONSGML v1.0//EN
CALSCALE:GREGORIAN
METHOD:PUBLISH
X-WR-CALNAME:Nebraska Referee Development Program
X-ORIGINAL-URL:https://nrdp.soccer
X-WR-CALDESC:Events for Nebraska Referee Development Program
REFRESH-INTERVAL;VALUE=DURATION:PT1H
X-Robots-Tag:noindex
X-PUBLISHED-TTL:PT1H
BEGIN:VTIMEZONE
TZID:America/Chicago
BEGIN:DAYLIGHT
TZOFFSETFROM:-0600
TZOFFSETTO:-0500
TZNAME:CDT
DTSTART:20210314T080000
END:DAYLIGHT
BEGIN:STANDARD
TZOFFSETFROM:-0500
TZOFFSETTO:-0600
TZNAME:CST
DTSTART:20211107T070000
END:STANDARD
BEGIN:DAYLIGHT
TZOFFSETFROM:-0600
TZOFFSETTO:-0500
TZNAME:CDT
DTSTART:20220313T080000
END:DAYLIGHT
BEGIN:STANDARD
TZOFFSETFROM:-0500
TZOFFSETTO:-0600
TZNAME:CST
DTSTART:20221106T070000
END:STANDARD
BEGIN:DAYLIGHT
TZOFFSETFROM:-0600
TZOFFSETTO:-0500
TZNAME:CDT
DTSTART:20230312T080000
END:DAYLIGHT
BEGIN:STANDARD
TZOFFSETFROM:-0500
TZOFFSETTO:-0600
TZNAME:CST
DTSTART:20231105T070000
END:STANDARD
BEGIN:DAYLIGHT
TZOFFSETFROM:-0600
TZOFFSETTO:-0500
TZNAME:CDT
DTSTART:20240310T080000
END:DAYLIGHT
BEGIN:STANDARD
TZOFFSETFROM:-0500
TZOFFSETTO:-0600
TZNAME:CST
DTSTART:20241103T070000
END:STANDARD
BEGIN:DAYLIGHT
TZOFFSETFROM:-0600
TZOFFSETTO:-0500
TZNAME:CDT
DTSTART:20250309T080000
END:DAYLIGHT
BEGIN:STANDARD
TZOFFSETFROM:-0500
TZOFFSETTO:-0600
TZNAME:CST
DTSTART:20251102T070000
END:STANDARD
END:VTIMEZONE
BEGIN:VEVENT
DTSTART;TZID=America/Chicago:20240407T130000
DTEND;TZID=America/Chicago:20240407T150000
DTSTAMP:20260423T143319
CREATED:20240314T004428Z
LAST-MODIFIED:20240314T004428Z
UID:10000073-1712494800-1712502000@nrdp.soccer
SUMMARY:New Referee Field Training - Columbus\, NE
DESCRIPTION:Instructions for registering for the New Referee Course can be found HERE. \nOnce you complete ALL of the online assignments\, you can sign up to attend this Field Training Session by registering HERE. \nPre-registration and completion of online material is required prior to being able to enroll for a Field Training Clinic. If you have not completed the online courses\, you will not be able to attend the field training. \nPlease bring with you a pen and paper for notes\, water\, and be ready to do a little light running. \nIf you have any questions\, contact Jim Buscher\, SYRA\, at jim.buscher@nrdp.soccer.
URL:https://nrdp.soccer/event/new-referee-field-training-columbus-ne-2/
LOCATION:Columbus YMCA\, 3912 38th Street\, Columbus\, NE\, 68601\, United States
CATEGORIES:Field Training Session
ORGANIZER;CN="Dave Glatte":MAILTO:dave.glatte@nrdp.soccer
END:VEVENT
BEGIN:VEVENT
DTSTART;TZID=America/Chicago:20240326T184500
DTEND;TZID=America/Chicago:20240326T210000
DTSTAMP:20260423T143319
CREATED:20240314T002337Z
LAST-MODIFIED:20240314T002337Z
UID:10000070-1711478700-1711486800@nrdp.soccer
SUMMARY:New Referee Field Training - Omaha\, NE
DESCRIPTION:Instructions for registering for the New Referee Course can be found HERE. \nOnce you complete ALL of the online assignments\, you can sign up to attend this Field Training Session by registering HERE. \nPre-registration and completion of online material is required prior to being able to enroll for a Field Training Clinic. If you have not completed the online courses\, you will not be able to attend the field training. \nPlease bring with you a pen and paper for notes\, water\, and be ready to do a little light running. \nIf you have any questions\, contact Jim Buscher\, SYRA\, at jim.buscher@nrdp.soccer.
URL:https://nrdp.soccer/event/new-referee-field-training-omaha-ne-6/
LOCATION:Omaha Sports Complex – Omaha\, 14706 Giles Road\, Omaha\, Nebraska\, 68138
CATEGORIES:Field Training Session
ORGANIZER;CN="Dave Glatte":MAILTO:dave.glatte@nrdp.soccer
END:VEVENT
BEGIN:VEVENT
DTSTART;TZID=America/Chicago:20240324T121500
DTEND;TZID=America/Chicago:20240324T143000
DTSTAMP:20260423T143319
CREATED:20240314T004602Z
LAST-MODIFIED:20240314T004602Z
UID:10000074-1711282500-1711290600@nrdp.soccer
SUMMARY:New Referee Field Training - Lincoln\, NE
DESCRIPTION:Instructions for registering for the New Referee Course can be found HERE. \nOnce you complete ALL of the online assignments\, you can sign up to attend this Field Training Session by registering HERE. \nPre-registration and completion of online material is required prior to being able to enroll for a Field Training Clinic. If you have not completed the online courses\, you will not be able to attend the field training. \nPlease bring with you a pen and paper for notes\, water\, and be ready to do a little light running. \nIf you have any questions\, contact Jim Buscher\, SYRA\, at jim.buscher@nrdp.soccer.
URL:https://nrdp.soccer/event/new-referee-field-training-lincoln-ne/
LOCATION:Easterday Recreation Center – Lincoln\, 6130 Adams Street\, Lincoln\, NE\, 68507\, United States
CATEGORIES:Field Training Session
ORGANIZER;CN="Dave Glatte":MAILTO:dave.glatte@nrdp.soccer
END:VEVENT
BEGIN:VEVENT
DTSTART;TZID=America/Chicago:20240319T184500
DTEND;TZID=America/Chicago:20240319T210000
DTSTAMP:20260423T143319
CREATED:20240314T002307Z
LAST-MODIFIED:20240314T002307Z
UID:10000069-1710873900-1710882000@nrdp.soccer
SUMMARY:New Referee Field Training - Omaha\, NE
DESCRIPTION:Instructions for registering for the New Referee Course can be found HERE. \nOnce you complete ALL of the online assignments\, you can sign up to attend this Field Training Session by registering HERE. \nPre-registration and completion of online material is required prior to being able to enroll for a Field Training Clinic. If you have not completed the online courses\, you will not be able to attend the field training. \nPlease bring with you a pen and paper for notes\, water\, and be ready to do a little light running. \nIf you have any questions\, contact Jim Buscher\, SYRA\, at jim.buscher@nrdp.soccer.
URL:https://nrdp.soccer/event/new-referee-field-training-omaha-ne-5/
LOCATION:Omaha Sports Complex – Omaha\, 14706 Giles Road\, Omaha\, Nebraska\, 68138
CATEGORIES:Field Training Session
ORGANIZER;CN="Dave Glatte":MAILTO:dave.glatte@nrdp.soccer
END:VEVENT
BEGIN:VEVENT
DTSTART;TZID=America/Chicago:20240317T180000
DTEND;TZID=America/Chicago:20240317T200000
DTSTAMP:20260423T143319
CREATED:20230307T161922Z
LAST-MODIFIED:20240123T213828Z
UID:10000050-1710698400-1710705600@nrdp.soccer
SUMMARY:NRDP Board Meeting - Virtual Only
DESCRIPTION:If you would like to attend this meeting\, you can certainly do so. Please contact Mark McNamara\, State Director of Communication\, at SDC@nrdp.soccer for more information.
URL:https://nrdp.soccer/event/nrdp-board-meeting-3/
LOCATION:NE
CATEGORIES:Board Meeting
ORGANIZER;CN="Jim McVay":MAILTO:jim.mcvay@nrdp.soccer
END:VEVENT
BEGIN:VEVENT
DTSTART;TZID=America/Chicago:20240316T140000
DTEND;TZID=America/Chicago:20240316T170000
DTSTAMP:20260423T143319
CREATED:20240314T001958Z
LAST-MODIFIED:20240314T004706Z
UID:10000068-1710597600-1710608400@nrdp.soccer
SUMMARY:New Referee Field Training - Omaha\, NE
DESCRIPTION:Instructions for registering for the New Referee Course can be found HERE. \nOnce you complete ALL of the online assignments\, you can sign up to attend this Field Training Session by registering HERE. \nPre-registration and completion of online material is required prior to being able to enroll for a Field Training Clinic. If you have not completed the online courses\, you will not be able to attend the field training. \nPlease bring with you a pen and paper for notes\, water\, and be ready to do a little light running. \nIf you have any questions\, contact Jim Buscher\, SYRA\, at jim.buscher@nrdp.soccer.
URL:https://nrdp.soccer/event/new-referee-field-training-omaha-ne-4/
LOCATION:Elevate Gym\, 11212 Chicago Circle\, Omaha\, NE\, 68154\, United States
CATEGORIES:Field Training Session
ORGANIZER;CN="Dave Glatte":MAILTO:dave.glatte@nrdp.soccer
END:VEVENT
BEGIN:VEVENT
DTSTART;TZID=America/Chicago:20240313T190000
DTEND;TZID=America/Chicago:20240313T200000
DTSTAMP:20260423T143319
CREATED:20240123T212057Z
LAST-MODIFIED:20240123T213221Z
UID:10000058-1710356400-1710360000@nrdp.soccer
SUMMARY:NRDP Winter Development Series - Session #4 - Virtual Only
DESCRIPTION:The fourth session of our 2024 Winter Development Series is Wednesday\, March 13\, 2024\, at 7:00pm. \nThis event is virtual only. You can also join via Zoom by clicking HERE. \nIf the link does not work\, enter the following at zoom.com: \nMeeting ID: 891 3529 9104 \nPasscode: WDS#4
URL:https://nrdp.soccer/event/nrdp-winter-development-series-session-3-3/
LOCATION:Virtual Only
CATEGORIES:Special Event
ORGANIZER;CN="Jim McVay":MAILTO:jim.mcvay@nrdp.soccer
END:VEVENT
BEGIN:VEVENT
DTSTART;TZID=America/Chicago:20240312T184500
DTEND;TZID=America/Chicago:20240312T210000
DTSTAMP:20260423T143319
CREATED:20240123T222245Z
LAST-MODIFIED:20240123T224839Z
UID:10000065-1710269100-1710277200@nrdp.soccer
SUMMARY:New Referee Field Training - Omaha\, NE
DESCRIPTION:Instructions for registering for the New Referee Course can be found HERE. \nOnce you complete ALL of the online assignments\, you can sign up to attend this Field Training Session by registering HERE. \nPre-registration and completion of online material is required prior to being able to enroll for a Field Training Clinic. If you have not completed the online courses\, you will not be able to attend the field training. \nPlease bring with you a pen and paper for notes\, water\, and be ready to do a little light running. \nIf you have any questions\, contact Jim Buscher\, SYRA\, at jim.buscher@nrdp.soccer.
URL:https://nrdp.soccer/event/new-referee-field-training-omaha-ne-3/
LOCATION:Omaha Sports Complex – Omaha\, 14706 Giles Road\, Omaha\, Nebraska\, 68138
CATEGORIES:Field Training Session
ORGANIZER;CN="Dave Glatte":MAILTO:dave.glatte@nrdp.soccer
END:VEVENT
BEGIN:VEVENT
DTSTART;TZID=America/Chicago:20240309T110000
DTEND;TZID=America/Chicago:20240309T140000
DTSTAMP:20260423T143319
CREATED:20240123T214652Z
LAST-MODIFIED:20240123T222016Z
UID:10000061-1709982000-1709992800@nrdp.soccer
SUMMARY:Regional Referee Fitness Test - Omaha\, NE
DESCRIPTION:Time and location to be determined.
URL:https://nrdp.soccer/event/fitness-test-omaha-2/
LOCATION:NE
CATEGORIES:Fitness Test
ORGANIZER;CN="Jim McVay":MAILTO:jim.mcvay@nrdp.soccer
END:VEVENT
BEGIN:VEVENT
DTSTART;TZID=America/Chicago:20240305T184500
DTEND;TZID=America/Chicago:20240305T210000
DTSTAMP:20260423T143319
CREATED:20240123T222158Z
LAST-MODIFIED:20240123T224905Z
UID:10000064-1709664300-1709672400@nrdp.soccer
SUMMARY:New Referee Field Training - Omaha\, NE
DESCRIPTION:Instructions for registering for the New Referee Course can be found HERE. \nOnce you complete ALL of the online assignments\, you can sign up to attend this Field Training Session by registering HERE. \nPre-registration and completion of online material is required prior to being able to enroll for a Field Training Clinic. If you have not completed the online courses\, you will not be able to attend the field training. \nPlease bring with you a pen and paper for notes\, water\, and be ready to do a little light running. \nIf you have any questions\, contact Jim Buscher\, SYRA\, at jim.buscher@nrdp.soccer.
URL:https://nrdp.soccer/event/new-referee-field-training-omaha-ne-2/
LOCATION:Omaha Sports Complex – Omaha\, 14706 Giles Road\, Omaha\, Nebraska\, 68138
CATEGORIES:Field Training Session
ORGANIZER;CN="Dave Glatte":MAILTO:dave.glatte@nrdp.soccer
END:VEVENT
BEGIN:VEVENT
DTSTART;TZID=America/Chicago:20240227T184500
DTEND;TZID=America/Chicago:20240227T210000
DTSTAMP:20260423T143319
CREATED:20240123T222119Z
LAST-MODIFIED:20240123T224929Z
UID:10000063-1709059500-1709067600@nrdp.soccer
SUMMARY:New Referee Field Training - Omaha\, NE
DESCRIPTION:Instructions for registering for the New Referee Course can be found HERE. \nOnce you complete ALL of the online assignments\, you can sign up to attend this Field Training Session by registering HERE. \nPre-registration and completion of online material is required prior to being able to enroll for a Field Training Clinic. If you have not completed the online courses\, you will not be able to attend the field training. \nPlease bring with you a pen and paper for notes\, water\, and be ready to do a little light running. \nIf you have any questions\, contact Jim Buscher\, SYRA\, at jim.buscher@nrdp.soccer.
URL:https://nrdp.soccer/event/new-referee-field-training-omaha-ne/
LOCATION:Omaha Sports Complex – Omaha\, 14706 Giles Road\, Omaha\, Nebraska\, 68138
CATEGORIES:Field Training Session
ORGANIZER;CN="Dave Glatte":MAILTO:dave.glatte@nrdp.soccer
END:VEVENT
BEGIN:VEVENT
DTSTART;TZID=America/Chicago:20240224T090000
DTEND;TZID=America/Chicago:20240224T180000
DTSTAMP:20260423T143319
CREATED:20230323T182938Z
LAST-MODIFIED:20240123T223325Z
UID:10000053-1708765200-1708797600@nrdp.soccer
SUMMARY:US Soccer SRC Workshop - Chicago\, IL
DESCRIPTION:
URL:https://nrdp.soccer/event/us-soccer-src-workshop/
LOCATION:US Soccer Office\, 303 E Wacker\, 2nd Floor\, Chicago\, IL\, 60640\, United States
CATEGORIES:Special Event
ORGANIZER;CN="Jim McVay":MAILTO:jim.mcvay@nrdp.soccer
END:VEVENT
BEGIN:VEVENT
DTSTART;TZID=America/Chicago:20240220T184500
DTEND;TZID=America/Chicago:20240220T210000
DTSTAMP:20260423T143319
CREATED:20220216T155151Z
LAST-MODIFIED:20240123T224812Z
UID:10000031-1708454700-1708462800@nrdp.soccer
SUMMARY:New Referee Field Training - Omaha\, NE
DESCRIPTION:Instructions for registering for the New Referee Course can be found HERE. \nOnce you complete ALL of the online assignments\, you can sign up to attend this Field Training Session by registering HERE. \nPre-registration and completion of online material is required prior to being able to enroll for a Field Training Clinic. If you have not completed the online courses\, you will not be able to attend the field training. \nPlease bring with you a pen and paper for notes\, water\, and be ready to do a little light running. \nIf you have any questions\, contact Jim Buscher\, SYRA\, at jim.buscher@nrdp.soccer.
URL:https://nrdp.soccer/event/field-training-omaha-3/
LOCATION:Omaha Sports Complex – Omaha\, 14706 Giles Road\, Omaha\, Nebraska\, 68138
CATEGORIES:Field Training Session
ORGANIZER;CN="Dave Glatte":MAILTO:dave.glatte@nrdp.soccer
END:VEVENT
BEGIN:VEVENT
DTSTART;TZID=America/Chicago:20240217T160000
DTEND;TZID=America/Chicago:20240217T190000
DTSTAMP:20260423T143319
CREATED:20240123T220315Z
LAST-MODIFIED:20240123T221935Z
UID:10000062-1708185600-1708196400@nrdp.soccer
SUMMARY:New Referee Field Training - Beatrice\, NE
DESCRIPTION:Instructions for registering for the New Referee Course can be found HERE. \nOnce you complete ALL of the online assignments\, you can sign up to attend this Field Training Session by registering HERE. \nPre-registration and completion of online material is required prior to being able to enroll for a Field Training Clinic. If you have not completed the online courses\, you will not be able to attend the field training. \nPlease bring with you a pen and paper for notes\, water\, and be ready to do a little light running. \nIf you have any questions\, contact Jim Buscher\, SYRA\, at jim.buscher@nrdp.soccer.
URL:https://nrdp.soccer/event/field-training-beatrice-ne/
LOCATION:Beatrice City Auditorium – Beatrice\, NE\, 205 N 4th Street\, Beatrice\, NE\, 68310\, United States
CATEGORIES:Field Training Session
ORGANIZER;CN="Dave Glatte":MAILTO:dave.glatte@nrdp.soccer
END:VEVENT
BEGIN:VEVENT
DTSTART;TZID=America/Chicago:20240215T190000
DTEND;TZID=America/Chicago:20240215T200000
DTSTAMP:20260423T143319
CREATED:20240123T211628Z
LAST-MODIFIED:20240123T213238Z
UID:10000057-1708023600-1708027200@nrdp.soccer
SUMMARY:NRDP Winter Development Series - Session #3 - Virtual Only
DESCRIPTION:The third session of our 2024 Winter Development Series is Thursday\, February 15\, 2024\, at 7:00pm. \nThis event is virtual only. You can also join via Zoom by clicking HERE. \nIf the link does not work\, enter the following at zoom.com: \nMeeting ID: 849 9685 8860 \nPasscode: WDS#3
URL:https://nrdp.soccer/event/nrdp-winter-development-series-session-3-2/
LOCATION:Virtual Only
CATEGORIES:Special Event
ORGANIZER;CN="Jim McVay":MAILTO:jim.mcvay@nrdp.soccer
END:VEVENT
BEGIN:VEVENT
DTSTART;TZID=America/Chicago:20240211T153000
DTEND;TZID=America/Chicago:20240211T173000
DTSTAMP:20260423T143319
CREATED:20240124T151733Z
LAST-MODIFIED:20240124T151733Z
UID:10000067-1707665400-1707672600@nrdp.soccer
SUMMARY:New Referee Field Training - Papillion\, NE
DESCRIPTION:Instructions for registering for the New Referee Course can be found HERE. \nOnce you complete ALL of the online assignments\, you can sign up to attend this Field Training Session by registering HERE. \nPre-registration and completion of online material is required prior to being able to enroll for a Field Training Clinic. If you have not completed the online courses\, you will not be able to attend the field training. \nPlease bring with you a pen and paper for notes\, water\, and be ready to do a little light running. \nIf you have any questions\, contact Jim Buscher\, SYRA\, at jim.buscher@nrdp.soccer.
URL:https://nrdp.soccer/event/new-referee-field-training-papillion-ne/
LOCATION:Sarpy County YMCA – Papillion\, 1111 East 1st Street\, Papillion\, NE\, 68046\, United States
CATEGORIES:Field Training Session
ORGANIZER;CN="Dave Glatte":MAILTO:dave.glatte@nrdp.soccer
END:VEVENT
BEGIN:VEVENT
DTSTART;TZID=America/Chicago:20240127T140000
DTEND;TZID=America/Chicago:20240127T170000
DTSTAMP:20260423T143319
CREATED:20240123T223431Z
LAST-MODIFIED:20240123T224706Z
UID:10000066-1706364000-1706374800@nrdp.soccer
SUMMARY:New Referee Field Training - York\, NE
DESCRIPTION:Instructions for registering for the New Referee Course can be found HERE. \nOnce you complete ALL of the online assignments\, you can sign up to attend this Field Training Session by registering HERE. \nPre-registration and completion of online material is required prior to being able to enroll for a Field Training Clinic. If you have not completed the online courses\, you will not be able to attend the field training. \nPlease bring with you a pen and paper for notes\, water\, and be ready to do a little light running. \nIf you have any questions\, contact Jim McVay\, SRA\, at jim.mcvay@nrdp.soccer.
URL:https://nrdp.soccer/event/new-referee-field-training-york-ne/
LOCATION:Campbell Activity Center – York\, NE\, East 10th St & Mayhew Ave\, York\, NE\, 68467\, United States
CATEGORIES:Field Training Session
ORGANIZER;CN="Dave Glatte":MAILTO:dave.glatte@nrdp.soccer
END:VEVENT
BEGIN:VEVENT
DTSTART;TZID=America/Chicago:20231214T190000
DTEND;TZID=America/Chicago:20231214T200000
DTSTAMP:20260423T143319
CREATED:20231206T171938Z
LAST-MODIFIED:20231214T175224Z
UID:10000055-1702580400-1702584000@nrdp.soccer
SUMMARY:NRDP Winter Development Series - Session #1
DESCRIPTION:The first session of our 2024 Winter Development Series is Thursday\, December 14\, 2023\, at 7:00pm. \nOur guest presenter will be Matt Seem\, PRO AR\, discussing: \n “Post-season Lessons from PRO and How They Apply to You and Your Matches” \nThis event is virtual only. You can also join via Zoom by clicking HERE. \nIf the link does not work\, enter the following at zoom.com: \nMeeting ID: 842 0982 3057 \nPasscode: WDS#1
URL:https://nrdp.soccer/event/nrdp-winter-development-series-session-1/
LOCATION:Virtual Only
CATEGORIES:Special Event
ORGANIZER;CN="Jim McVay":MAILTO:jim.mcvay@nrdp.soccer
END:VEVENT
BEGIN:VEVENT
DTSTART;VALUE=DATE:20230623
DTEND;VALUE=DATE:20230629
DTSTAMP:20260423T143319
CREATED:20230307T162113Z
LAST-MODIFIED:20230307T163318Z
UID:10000051-1687478400-1687996799@nrdp.soccer
SUMMARY:2023 Midwest Regional Championships
DESCRIPTION:
URL:https://nrdp.soccer/event/midwest-regional-championships-2/
LOCATION:St. Louis\, Missouri\, St. Louis\, MO\, 63103\, United States
CATEGORIES:Tournament
END:VEVENT
BEGIN:VEVENT
DTSTART;VALUE=DATE:20230616
DTEND;VALUE=DATE:20230621
DTSTAMP:20260423T143320
CREATED:20230307T163426Z
LAST-MODIFIED:20230307T163508Z
UID:10000052-1686873600-1687305599@nrdp.soccer
SUMMARY:2023 Midwest Presidents Cup - West Chester Township\, OH
DESCRIPTION:
URL:https://nrdp.soccer/event/2023-midwest-presidents-cup-west-chester-township-oh/
LOCATION:West Chester Township\, Ohio\, West Chester Township\, OH\, 45069\, United States
CATEGORIES:Tournament
END:VEVENT
BEGIN:VEVENT
DTSTART;TZID=America/Chicago:20230416T180000
DTEND;TZID=America/Chicago:20230416T200000
DTSTAMP:20260423T143320
CREATED:20230307T161855Z
LAST-MODIFIED:20230323T185004Z
UID:10000049-1681668000-1681675200@nrdp.soccer
SUMMARY:NRDP Board Meeting - Online
DESCRIPTION:
URL:https://nrdp.soccer/event/nrdp-board-meeting-2/
LOCATION:NE
CATEGORIES:Board Meeting
ORGANIZER;CN="Jim McVay":MAILTO:jim.mcvay@nrdp.soccer
END:VEVENT
BEGIN:VEVENT
DTSTART;TZID=America/Chicago:20230326T153000
DTEND;TZID=America/Chicago:20230326T173000
DTSTAMP:20260423T143320
CREATED:20230323T184855Z
LAST-MODIFIED:20230323T184855Z
UID:10000054-1679844600-1679851800@nrdp.soccer
SUMMARY:Field Training - Gretna
DESCRIPTION:Instructions for registering for the New Referee Course can be found HERE. \nOnce you complete ALL of the online assignments\, you can sign up to attend this Field Training Session by registering HERE. \nPre-registration and completion of online material is required prior to being able to enroll for a Field Training Clinic. If you have not completed the online courses\, you will not be able to attend the field training. \nPlease bring with you a pen and paper for notes\, water\, and be ready to do a little light running. \nIf you have any questions\, contact Dave Glatte\, SYRA\, at dave.glatte@nrdp.soccer.
URL:https://nrdp.soccer/event/field-training-gretna-3/
LOCATION:Gretna Sports Complex – Gretna\, 10550 South 222nd Street\, Gretna\, NE\, 68028\, United States
CATEGORIES:Field Training Session
ORGANIZER;CN="Dave Glatte":MAILTO:dave.glatte@nrdp.soccer
END:VEVENT
BEGIN:VEVENT
DTSTART;TZID=America/Chicago:20230312T153000
DTEND;TZID=America/Chicago:20230312T173000
DTSTAMP:20260423T143320
CREATED:20230307T161551Z
LAST-MODIFIED:20230307T161551Z
UID:10000047-1678635000-1678642200@nrdp.soccer
SUMMARY:Field Training - Papillion
DESCRIPTION:Instructions for registering for the New Referee Course can be found HERE. \nOnce you complete ALL of the online assignments\, you can sign up to attend this Field Training Session by registering HERE. \nPre-registration and completion of online material is required prior to being able to enroll for a Field Training Clinic. If you have not completed the online courses\, you will not be able to attend the field training. \nPlease bring with you a pen and paper for notes\, water\, and be ready to do a little light running. \nIf you have any questions\, contact Dave Glatte\, SYRA\, at dave.glatte@nrdp.soccer.
URL:https://nrdp.soccer/event/field-training-papillion/
LOCATION:Sarpy County YMCA – Papillion\, 1111 East 1st Street\, Papillion\, NE\, 68046\, United States
CATEGORIES:Field Training Session
ORGANIZER;CN="Dave Glatte":MAILTO:dave.glatte@nrdp.soccer
END:VEVENT
BEGIN:VEVENT
DTSTART;TZID=America/Chicago:20230312T060000
DTEND;TZID=America/Chicago:20230312T200000
DTSTAMP:20260423T143320
CREATED:20230307T161811Z
LAST-MODIFIED:20230307T161811Z
UID:10000048-1678600800-1678651200@nrdp.soccer
SUMMARY:NRDP Board Meeting
DESCRIPTION:
URL:https://nrdp.soccer/event/nrdp-board-meeting/
LOCATION:NE
CATEGORIES:Board Meeting
ORGANIZER;CN="Jim McVay":MAILTO:jim.mcvay@nrdp.soccer
END:VEVENT
BEGIN:VEVENT
DTSTART;TZID=America/Chicago:20230309T180000
DTEND;TZID=America/Chicago:20230309T200000
DTSTAMP:20260423T143320
CREATED:20230307T160515Z
LAST-MODIFIED:20230307T161028Z
UID:10000046-1678384800-1678392000@nrdp.soccer
SUMMARY:Field Training - Lincoln
DESCRIPTION:Instructions for registering for the New Referee Course can be found HERE. \nOnce you complete ALL of the online assignments\, you can sign up to attend this Field Training Session by registering HERE. \nPre-registration and completion of online material is required prior to being able to enroll for a Field Training Clinic. If you have not completed the online courses\, you will not be able to attend the field training. \nPlease bring with you a pen and paper for notes\, water\, and be ready to do a little light running. \nIf you have any questions\, contact Dave Glatte\, SYRA\, at dave.glatte@nrdp.soccer.
URL:https://nrdp.soccer/event/field-training-lincoln-7/
LOCATION:Easterday Recreation Center – Lincoln\, 6130 Adams Street\, Lincoln\, NE\, 68507\, United States
CATEGORIES:Field Training Session
ORGANIZER;CN="Dave Glatte":MAILTO:dave.glatte@nrdp.soccer
END:VEVENT
BEGIN:VEVENT
DTSTART;TZID=America/Chicago:20230128T090000
DTEND;TZID=America/Chicago:20230225T153000
DTSTAMP:20260423T143320
CREATED:20221201T002516Z
LAST-MODIFIED:20221201T002838Z
UID:10000044-1674896400-1677339000@nrdp.soccer
SUMMARY:2023 NRDP Referee Seminar
DESCRIPTION:When: January 28\, 2023 ~ 9:00 a.m. to 3:30 p.m.\nWhere: Harper Center Auditorium ~ Creighton University\n602 North 20th Street\, Omaha\, Nebraska \nThis Event is a FREE event for all 2022 licensed referees.\nLunch is provided at no cost. \nStay tuned for more information
URL:https://nrdp.soccer/event/2023-referee-seminar/
LOCATION:Harper Center – Creighton University – Omaha\, 602 N 20th Street\, Omaha\, NE\, 68178
CATEGORIES:Special Event
END:VEVENT
BEGIN:VEVENT
DTSTART;TZID=America/Chicago:20230117T190000
DTEND;TZID=America/Chicago:20230117T200000
DTSTAMP:20260423T143320
CREATED:20221130T235714Z
LAST-MODIFIED:20221231T221405Z
UID:10000041-1673982000-1673985600@nrdp.soccer
SUMMARY:NRDP Winter Development Series - Session #3
DESCRIPTION:The second session of our Winter Development Series is Thursday\, January 17\, 2023\, at 7:00pm. \nOur guest presenter will be Edvin Jurisevic\, FIFA VAR\, who recently attending the World Cup in Qatar. Come and hear the behind-the-scenes details of the event. \nYou can join Edvin in person at the Harper Center\, Creighton University\, Room 2072. \nYou can also join via Zoom by clicking the link below. \nIf the link does not work\, enter the following at zoom.com: \nMeeting ID: 839 4889 9142 \nPasscode: WDS#3
URL:https://nrdp.soccer/event/nrdp-winter-development-series-session-3/
LOCATION:Harper Center – Creighton University – Omaha\, 602 N 20th Street\, Omaha\, NE\, 68178
CATEGORIES:Special Event
ORGANIZER;CN="Jim McVay":MAILTO:jim.mcvay@nrdp.soccer
END:VEVENT
BEGIN:VEVENT
DTSTART;TZID=America/Chicago:20221215T190000
DTEND;TZID=America/Chicago:20221215T200000
DTSTAMP:20260423T143320
CREATED:20221130T235817Z
LAST-MODIFIED:20221201T000021Z
UID:10000042-1671130800-1671134400@nrdp.soccer
SUMMARY:NRDP Winter Development Series - Session #4
DESCRIPTION:The second session of our Winter Development Series is Thursday\, February 16\, 2023\, at 7:00pm. \nBrent Wilson\, State Director of Referee Development\, will guide the session. \nYou can join Brent in person at the Harper Center\, Creighton University\, Room TBD. \nYou can also join via Zoom by clicking the link below. \nIf the link does not work\, enter the following at zoom.com: \nMeeting ID: 834 5411 0967 \nPasscode: WDS#4
URL:https://nrdp.soccer/event/nrdp-winter-development-series-session-4/
LOCATION:Harper Center – Creighton University – Omaha\, 602 N 20th Street\, Omaha\, NE\, 68178
CATEGORIES:Special Event
END:VEVENT
BEGIN:VEVENT
DTSTART;TZID=America/Chicago:20221215T190000
DTEND;TZID=America/Chicago:20221215T200000
DTSTAMP:20260423T143320
CREATED:20221130T225421Z
LAST-MODIFIED:20221130T235545Z
UID:10000040-1671130800-1671134400@nrdp.soccer
SUMMARY:NRDP Winter Development Series - Session #2
DESCRIPTION:The second session of our Winter Development Series is Thursday\, December 15\, 2022\, at 7:00pm. \nBrent Wilson\, State Director of Referee Development\, will guide the session. \nYou can join Brent in person at the Harper Center\, Creighton University\, Room TBD. \nYou can also join via Zoom by clicking the link below. \nIf the link does not work\, enter the following at zoom.com: \nMeeting ID: 837 6847 1725 \nPasscode: WDS#2
URL:https://nrdp.soccer/event/nrdp-winter-development-series-session-2/
LOCATION:Harper Center – Creighton University – Omaha\, 602 N 20th Street\, Omaha\, NE\, 68178
CATEGORIES:Special Event
END:VEVENT
BEGIN:VEVENT
DTSTART;VALUE=DATE:20220624
DTEND;VALUE=DATE:20220630
DTSTAMP:20260423T143320
CREATED:20220306T144150Z
LAST-MODIFIED:20220306T144832Z
UID:10000029-1656028800-1656547199@nrdp.soccer
SUMMARY:Midwest Regional Championships - Westfield\, IN
DESCRIPTION:
URL:https://nrdp.soccer/event/midwest-regional-championships/
LOCATION:NE
CATEGORIES:Tournament
END:VEVENT
END:VCALENDAR