BEGIN:VCALENDAR
VERSION:2.0
PRODID:-//Nebraska Referee Development Program - ECPv6.15.20//NONSGML v1.0//EN
CALSCALE:GREGORIAN
METHOD:PUBLISH
X-ORIGINAL-URL:https://nrdp.soccer
X-WR-CALDESC:Events for Nebraska Referee Development Program
REFRESH-INTERVAL;VALUE=DURATION:PT1H
X-Robots-Tag:noindex
X-PUBLISHED-TTL:PT1H
BEGIN:VTIMEZONE
TZID:America/Chicago
BEGIN:DAYLIGHT
TZOFFSETFROM:-0600
TZOFFSETTO:-0500
TZNAME:CDT
DTSTART:20220313T080000
END:DAYLIGHT
BEGIN:STANDARD
TZOFFSETFROM:-0500
TZOFFSETTO:-0600
TZNAME:CST
DTSTART:20221106T070000
END:STANDARD
BEGIN:DAYLIGHT
TZOFFSETFROM:-0600
TZOFFSETTO:-0500
TZNAME:CDT
DTSTART:20230312T080000
END:DAYLIGHT
BEGIN:STANDARD
TZOFFSETFROM:-0500
TZOFFSETTO:-0600
TZNAME:CST
DTSTART:20231105T070000
END:STANDARD
BEGIN:DAYLIGHT
TZOFFSETFROM:-0600
TZOFFSETTO:-0500
TZNAME:CDT
DTSTART:20240310T080000
END:DAYLIGHT
BEGIN:STANDARD
TZOFFSETFROM:-0500
TZOFFSETTO:-0600
TZNAME:CST
DTSTART:20241103T070000
END:STANDARD
BEGIN:DAYLIGHT
TZOFFSETFROM:-0600
TZOFFSETTO:-0500
TZNAME:CDT
DTSTART:20250309T080000
END:DAYLIGHT
BEGIN:STANDARD
TZOFFSETFROM:-0500
TZOFFSETTO:-0600
TZNAME:CST
DTSTART:20251102T070000
END:STANDARD
END:VTIMEZONE
BEGIN:VEVENT
DTSTART;TZID=America/Chicago:20240324T121500
DTEND;TZID=America/Chicago:20240324T143000
DTSTAMP:20260425T065530
CREATED:20240314T004602Z
LAST-MODIFIED:20240314T004602Z
UID:10000074-1711282500-1711290600@nrdp.soccer
SUMMARY:New Referee Field Training - Lincoln\, NE
DESCRIPTION:Instructions for registering for the New Referee Course can be found HERE. \nOnce you complete ALL of the online assignments\, you can sign up to attend this Field Training Session by registering HERE. \nPre-registration and completion of online material is required prior to being able to enroll for a Field Training Clinic. If you have not completed the online courses\, you will not be able to attend the field training. \nPlease bring with you a pen and paper for notes\, water\, and be ready to do a little light running. \nIf you have any questions\, contact Jim Buscher\, SYRA\, at jim.buscher@nrdp.soccer.
URL:https://nrdp.soccer/event/new-referee-field-training-lincoln-ne/
LOCATION:Easterday Recreation Center – Lincoln\, 6130 Adams Street\, Lincoln\, NE\, 68507\, United States
CATEGORIES:Field Training Session
ORGANIZER;CN="Dave Glatte":MAILTO:dave.glatte@nrdp.soccer
END:VEVENT
BEGIN:VEVENT
DTSTART;TZID=America/Chicago:20230309T180000
DTEND;TZID=America/Chicago:20230309T200000
DTSTAMP:20260425T065530
CREATED:20230307T160515Z
LAST-MODIFIED:20230307T161028Z
UID:10000046-1678384800-1678392000@nrdp.soccer
SUMMARY:Field Training - Lincoln
DESCRIPTION:Instructions for registering for the New Referee Course can be found HERE. \nOnce you complete ALL of the online assignments\, you can sign up to attend this Field Training Session by registering HERE. \nPre-registration and completion of online material is required prior to being able to enroll for a Field Training Clinic. If you have not completed the online courses\, you will not be able to attend the field training. \nPlease bring with you a pen and paper for notes\, water\, and be ready to do a little light running. \nIf you have any questions\, contact Dave Glatte\, SYRA\, at dave.glatte@nrdp.soccer.
URL:https://nrdp.soccer/event/field-training-lincoln-7/
LOCATION:Easterday Recreation Center – Lincoln\, 6130 Adams Street\, Lincoln\, NE\, 68507\, United States
CATEGORIES:Field Training Session
ORGANIZER;CN="Dave Glatte":MAILTO:dave.glatte@nrdp.soccer
END:VEVENT
END:VCALENDAR