BEGIN:VCALENDAR
VERSION:2.0
PRODID:-//Nebraska Referee Development Program - ECPv6.15.20//NONSGML v1.0//EN
CALSCALE:GREGORIAN
METHOD:PUBLISH
X-ORIGINAL-URL:https://nrdp.soccer
X-WR-CALDESC:Events for Nebraska Referee Development Program
REFRESH-INTERVAL;VALUE=DURATION:PT1H
X-Robots-Tag:noindex
X-PUBLISHED-TTL:PT1H
BEGIN:VTIMEZONE
TZID:America/Chicago
BEGIN:DAYLIGHT
TZOFFSETFROM:-0600
TZOFFSETTO:-0500
TZNAME:CDT
DTSTART:20210314T080000
END:DAYLIGHT
BEGIN:STANDARD
TZOFFSETFROM:-0500
TZOFFSETTO:-0600
TZNAME:CST
DTSTART:20211107T070000
END:STANDARD
BEGIN:DAYLIGHT
TZOFFSETFROM:-0600
TZOFFSETTO:-0500
TZNAME:CDT
DTSTART:20220313T080000
END:DAYLIGHT
BEGIN:STANDARD
TZOFFSETFROM:-0500
TZOFFSETTO:-0600
TZNAME:CST
DTSTART:20221106T070000
END:STANDARD
BEGIN:DAYLIGHT
TZOFFSETFROM:-0600
TZOFFSETTO:-0500
TZNAME:CDT
DTSTART:20230312T080000
END:DAYLIGHT
BEGIN:STANDARD
TZOFFSETFROM:-0500
TZOFFSETTO:-0600
TZNAME:CST
DTSTART:20231105T070000
END:STANDARD
END:VTIMEZONE
BEGIN:VEVENT
DTSTART;TZID=America/Chicago:20220305T150000
DTEND;TZID=America/Chicago:20220305T160000
DTSTAMP:20260424T143201
CREATED:20220216T152712Z
LAST-MODIFIED:20220216T152939Z
UID:10000038-1646492400-1646496000@nrdp.soccer
SUMMARY:NRDP Night at UNO - Omaha
DESCRIPTION:Are you interested in becoming a referee?  \nCome join us at NRDP Night at UNO to learn about reffing and try it for yourself. \nREGISTER
URL:https://nrdp.soccer/event/nrdp-night-at-psc-papillion/
LOCATION:UNO – H&K Wellness Center – Omaha\, 6323 Maverick Plaza\, Omaha\, NE\, 68182\, United States
CATEGORIES:Special Event
ATTACH;FMTTYPE=image/png:https://nrdp.soccer/wp-content/uploads/2022/02/NRDP-NIGHT-AT-UNO.png
ORGANIZER;CN="Jim McVay":MAILTO:jim.mcvay@nrdp.soccer
END:VEVENT
BEGIN:VEVENT
DTSTART;TZID=America/Chicago:20220305T140000
DTEND;TZID=America/Chicago:20220305T153000
DTSTAMP:20260424T143201
CREATED:20220216T154846Z
LAST-MODIFIED:20220216T155057Z
UID:10000034-1646488800-1646494200@nrdp.soccer
SUMMARY:Field Training - Omaha
DESCRIPTION:Pre-registration and completion of online material is REQUIRED prior to being able to enroll for a Field Training Clinic. \n\nLog in to OMS by clicking here: https://nrdp.omgtsys.com/Memberlogin.aspx\nIf you forgot your password or username\, click on “Forgot Password?” or “Forgot Username?”\nComplete the Online Lessons (you cannot register for field training until these are completed)\nSelect “Pick a Clinic”\nFind a Field Training Session that you can attend and click “Attend Here”\n\nAlso \nPlease bring something to pen and paper for notes. \nPlease come ready to do a little light running.
URL:https://nrdp.soccer/event/field-training-omaha-2/
LOCATION:UNO – H&K Wellness Center – Omaha\, 6323 Maverick Plaza\, Omaha\, NE\, 68182\, United States
CATEGORIES:Field Training Session
ORGANIZER;CN="Dave Glatte":MAILTO:dave.glatte@nrdp.soccer
END:VEVENT
END:VCALENDAR